BEGIN:VCALENDAR
VERSION:2.0
PRODID:-//Crous de Strasbourg - ECPv6.15.20//NONSGML v1.0//EN
CALSCALE:GREGORIAN
METHOD:PUBLISH
X-WR-CALNAME:Crous de Strasbourg
X-ORIGINAL-URL:https://www.crous-strasbourg.fr
X-WR-CALDESC:Évènements pour Crous de Strasbourg
REFRESH-INTERVAL;VALUE=DURATION:PT1H
X-Robots-Tag:noindex
X-PUBLISHED-TTL:PT1H
BEGIN:VTIMEZONE
TZID:Europe/Paris
BEGIN:DAYLIGHT
TZOFFSETFROM:+0100
TZOFFSETTO:+0200
TZNAME:CEST
DTSTART:20250330T010000
END:DAYLIGHT
BEGIN:STANDARD
TZOFFSETFROM:+0200
TZOFFSETTO:+0100
TZNAME:CET
DTSTART:20251026T010000
END:STANDARD
BEGIN:DAYLIGHT
TZOFFSETFROM:+0100
TZOFFSETTO:+0200
TZNAME:CEST
DTSTART:20260329T010000
END:DAYLIGHT
BEGIN:STANDARD
TZOFFSETFROM:+0200
TZOFFSETTO:+0100
TZNAME:CET
DTSTART:20261025T010000
END:STANDARD
BEGIN:DAYLIGHT
TZOFFSETFROM:+0100
TZOFFSETTO:+0200
TZNAME:CEST
DTSTART:20270328T010000
END:DAYLIGHT
BEGIN:STANDARD
TZOFFSETFROM:+0200
TZOFFSETTO:+0100
TZNAME:CET
DTSTART:20271031T010000
END:STANDARD
END:VTIMEZONE
BEGIN:VEVENT
DTSTART;TZID=Europe/Paris:20260401T120000
DTEND;TZID=Europe/Paris:20260401T140000
DTSTAMP:20260424T074409
CREATED:20260306T152610Z
LAST-MODIFIED:20260306T152610Z
UID:10004835-1775044800-1775052000@www.crous-strasbourg.fr
SUMMARY:Atelier d'auto-réparation de vélos en Resto U'
DESCRIPTION:[vc_row][vc_column][vc_column_text]Une chaîne à réparer ? Une selle à fixer ? Des freins à resserrer ? Profitez d’un atelier gratuit d’auto-réparation de vélo ! L’association Bretz’selle sera là pour vous aider et vous donner des conseils. \nLe matériel est fourni ![/vc_column_text][/vc_column][/vc_row]
URL:https://www.crous-strasbourg.fr/evenement/atelier-dauto-reparation-de-velos-en-resto-u-9/2026-04-01/
LOCATION:Resto U’ Paul Appell\, 23 rue du Jura\, Strasbourg\, 67000\, France
CATEGORIES:Atelier,Vie de campus
ATTACH;FMTTYPE=image/png:https://www.crous-strasbourg.fr/wp-content/uploads/sites/29/2023/03/Atelier-auto-reparation-de-velos.png
END:VEVENT
BEGIN:VEVENT
DTSTART;TZID=Europe/Paris:20260401T173000
DTEND;TZID=Europe/Paris:20260401T190000
DTSTAMP:20260424T074409
CREATED:20251215T154013Z
LAST-MODIFIED:20251215T154013Z
UID:10004563-1775064600-1775070000@www.crous-strasbourg.fr
SUMMARY:Cycle d'apprentissage du vélo
DESCRIPTION:[vc_row][vc_column][vc_column_text css= » »]Vous n’avez jamais eu l’occasion d’apprendre à faire du vélo ? Nous vous proposons un cycle d’apprentissage du vélo spécialement conçu pour les débutants. \nTous les mercredis de 17h30 à 19h au parc de la Citadelle. Le matériel (vélo + casque) est fourni. \nIntervenant : CADR67.   Nombre de places : 7.[/vc_column_text][vc_empty_space height= »24px »]Le cours est désormais complet. \nVous pouvez vous rendre directement sur place au jour et à l'horaire du cours\, l'intervenant pourra vous accueillir en cas de désistement d'autres étudiants.\n\nThe course is currently full. \nYou can try to go directly on the day and at the time of the course. The teacher will let you participate if others students don't come. [vc_column_text]Une fois le formulaire rempli\, vous serez pré-inscrit(e). Quelques jours avant l’activité\, vous recevrez un mail ou SMS pour valider définitivement votre inscription ; il faudra y répondre dans les meilleurs délais. \nNous vous invitons à bien vérifier que vos contacts sont corrects avant de confirmer l’envoi du formulaire de pré-inscription.[/vc_column_text][/vc_column][/vc_row]
URL:https://www.crous-strasbourg.fr/evenement/cycle-dapprentissage-du-velo-2/2026-04-01/
LOCATION:Parc de la Citadelle\, Strasbourg
CATEGORIES:Loisirs,Sport,Vie de campus
ATTACH;FMTTYPE=image/jpeg:https://www.crous-strasbourg.fr/wp-content/uploads/sites/29/2025/05/o2fcfhnsjpo.jpg
END:VEVENT
BEGIN:VEVENT
DTSTART;TZID=Europe/Paris:20260401T180000
DTEND;TZID=Europe/Paris:20260401T200000
DTSTAMP:20260424T074409
CREATED:20251215T154616Z
LAST-MODIFIED:20251215T154934Z
UID:10004589-1775066400-1775073600@www.crous-strasbourg.fr
SUMMARY:Cours hebdo - gravure
DESCRIPTION:[vc_row][vc_column][vc_column_text css= » »]Chaque semaine\, vous serez invité à découvrir et explorer des techniques de gravure. Vous pourrez laisser libre cours à votre créativité pour produire différentes œuvres.[/vc_column_text][vc_column_text css= » »]Le cours aura lieu tous les mercredis à la Cité U’ Gallia. \nLe matériel est fourni mais vous pouvez ramener le vôtre si vous le souhaitez. \nIntervenante : Camille Maupas \n Nombre de places : 12. \n À noter : il n’y aura pas cours durant les vacances universitaires et jours fériés. Les cours s’arrêteront la semaine du 15 mai.[/vc_column_text][vc_empty_space height= »24px »]Le cours est désormais complet. \nVous pouvez vous rendre directement sur place au jour et à l'horaire du cours\, l'intervenant pourra vous accueillir en cas de désistement d'autres étudiants.\n\nThe course is currently full. \nYou can try to go directly on the day and at the time of the course. The teacher will let you participate if others students don't come. [/vc_column][/vc_row]
URL:https://www.crous-strasbourg.fr/evenement/cours-hebdo-gravure-3/2026-04-01/
LOCATION:Cité U’ Gallia\, 1 boulevard de la Victoire\, Strasbourg\, 67000\, France
CATEGORIES:Art,Atelier,Cours hebdomadaire,Vie de campus
ATTACH;FMTTYPE=image/jpeg:https://www.crous-strasbourg.fr/wp-content/uploads/sites/29/2023/01/gravure-tetra-scaled.jpg
END:VEVENT
BEGIN:VEVENT
DTSTART;TZID=Europe/Paris:20260401T190000
DTEND;TZID=Europe/Paris:20260401T210000
DTSTAMP:20260424T074409
CREATED:20251215T155137Z
LAST-MODIFIED:20251215T155248Z
UID:10004603-1775070000-1775077200@www.crous-strasbourg.fr
SUMMARY:Cours hebdo - circuit training et renforcement musculaire
DESCRIPTION:[vc_row][vc_column][vc_column_text css= » »]Travaillez votre forme physique avec des exercices adaptés : cardio\, musculation et renforcement au programme ! \nLe cours aura lieu tous les mercredis à l’espace de vie étudiante de la Cité U’ Paul Appell. 2 créneaux au choix : 19h-20h ou 20h-21h. \nPensez à apporter de l’eau et une serviette. \nIntervenant : Emmerick Metschies. \nNombre de places : 10 par créneau. \n À noter : il n’y aura pas cours durant les vacances universitaires. Les cours s’arrêteront la semaine du 15 mai.[/vc_column_text][vc_empty_space height= »24px »]\n\n                \n                        \n							« * » indique les champs nécessaires \n                        \n                        Prénom & Nom / Name and Surname*\n                            \n                            \n                                                    \n                                                    Name\n                                                \n                            \n                            \n                                                    \n                                                    Surname\n                                                \n                            \n                        Téléphone / Phone number*E-mail*\n                            \n                        Établissement d'inscription / University or school*Université de StrasbourgUHAHEARINSAENGEESENSASTNSCNAMAutre (Other)Autre\, à préciser : / Other\, please specify :Filière d'étude / Your studies*Ville d'études / City where you study*Strasbourg (Eurometropole)MulhouseAutre (other)Autre\, à préciser / Other\, please specifyN° étudiant ou INE / Student or INE number*Êtes-vous logé dans une résidence Crous ? / Are you staying in a Crous residence hall ?*\n			\n					\n					Oui / Yes\n			\n			\n					\n					Non / No\n			Laquelle ? / Which one ?Paul AppellLes FlamboyantsGalliaLa SommeAlfred WeissLes CattleyasBruckhofLa RobertsauLes HoublonnièresLes AgapanthesLes AlternantsLes HéliotropesJe souhaite participer / I would like to participate*\n								\n								de 19h à 20h\n							\n								\n								de 20h à 21h\n							J'atteste sur l’honneur que je ne possède aucune contre-indication médicale à la pratique sportive / I certify that I don't have any medical contraindication to practice sport*\n								\n								Oui / Yes\n							\n								\n								Non / No\n							Avez-vous déjà participé à ce cours au premier semestre ? / Have you already taken this course during the first semester ?*\n			\n					\n					Oui\n			\n			\n					\n					Non\n			Serez-vous disponible sur l'ensemble du semestre ? / Will you be available during the whole semester ?*\n								\n								Oui\, j'assisterai à toutes les séances / Yes\, I will come to all the courses\n							\n								\n								Je risque de manquer quelques séances / I might miss few courses\n							\n								\n								Non\, je ne suis disponible qu'une partie du semestre / No\, I'm not available for the whole semester\n							Vous avez eu connaissance de cette activité par : / How did you hear about this course ?*InstagramLe site du Crous / Crous' websiteEmailMinute Crous / Newsletter "Minute Crous"Ma Résidence / app "Ma Résidence"Bouche à oreille / Word of mouthAffiche\, flyer / Poster or flyerAutre (à préciser) / Other\, specifyAutre\, à préciser / Other\, please specify\n         Envoyer\n\n\n\n\n \n            \n            \n            \n            \n            \n            \n            \n            \n            \n            \n            \n            \n            \n        \n                        \n                        \n[/vc_column][/vc_row]
URL:https://www.crous-strasbourg.fr/evenement/cours-hebdo-circuit-training-et-renforcement-musculaire-2-2/2026-04-01/
LOCATION:Cité U’ Paul Appell | Bâtiment Adélaïde Hautval\, 8 Rue de Palerme\, Strasbourg\, 67000\, France
CATEGORIES:Cours hebdomadaire,Sport,Vie de campus
ATTACH;FMTTYPE=image/png:https://www.crous-strasbourg.fr/wp-content/uploads/sites/29/2023/09/Visuels-pour-relance-MULTI-2.png
END:VEVENT
BEGIN:VEVENT
DTSTART;TZID=Europe/Paris:20260401T190000
DTEND;TZID=Europe/Paris:20260401T210000
DTSTAMP:20260424T074409
CREATED:20251215T174933Z
LAST-MODIFIED:20260409T133620Z
UID:10004706-1775070000-1775077200@www.crous-strasbourg.fr
SUMMARY:Soirée Jeux avec l'AFEV
DESCRIPTION:[vc_row][vc_column][vc_column_text css= » »]Le Clous de Mulhouse\, en partenariat avec l’AFEV\, vous propose des soirées jeux de société mensuelles en résidence ! \nAu programme : jeux de société\, rencontres et échanges. Boissons et grignotage sur place prévus ! \nCes soirées ont lieu : \n\nLe 04 février\, le 1er avril et le 20 mai dans le foyer de la résidence Master Doctorat (50 boulevard Charles Stoessel\, 68200 Mulhouse)\nLe 07 janvier et le 04 mars dans la salle polyvalente de la Cité U’ Expressions (11 rue des frères Lumière 68350 Brunstatt)\n\nQuand vous aurez rempli le formulaire d’inscription\, vous recevrez un mail avec un lien vous redirigeant vers le groupe Whatsapp des soirées jeux ![/vc_column_text][/vc_column][/vc_row][vc_row][vc_column][vc_empty_space][vc_row_inner][vc_column_inner css= ».vc_custom_1765892998244{background-color: #F3F3F3 !important;border-radius: 10px !important;} »]\n                \n                        Prénom / Nom(Nécessaire)\n                            \n                            \n                                                    \n                                                    Prénom\n                                                \n                            \n                            \n                                                    \n                                                    Nom\n                                                \n                            \n                        E-mail(Nécessaire)\n                            \n                        ÉTABLISSEMENT DE FORMATION(Nécessaire)FST\, IUT Mulhouse\, Biopôle\, Praxis\, FSESJ\, ENSISA\, Lycée Louis Armand.....Vous êtes logé dans une résidence du Clous de Mulhouse ?(Nécessaire)\n								\n								Oui\n							\n								\n								Non\n							\n         Envoyer\n\n\n\n\n \n            \n            \n            \n            \n            \n            \n            \n            \n            \n            \n            \n            \n            \n        \n                        \n                        \n[/vc_column_inner][/vc_row_inner][/vc_column][/vc_row][vc_row][vc_column width= »1/2″][vc_empty_space][vc_cardbox color= »red »][vc_column_text css= » »] \nDécouvrez toutes les activités du Clous de Mulhouse dans l’agenda !\nAttention : en vous inscrivant aux animations\, vous donnez votre accord pour apparaître sur les photos et vidéos (diffusion sur nos réseaux sociaux). En cas de refus\, veuillez à nous le signaler[/vc_column_text][/vc_cardbox][/vc_column][vc_column width= »1/2″][vc_empty_space][vc_cardbox color= »red »][vc_column_text css= » »]Après avoir cliqué sur « Envoyer » : \n\nUne info-bulle s’affichera pour confirmer que votre inscription est prise en compte. Un e-mail automatique sera envoyé à l’adresse que vous avez renseignée. Vous devriez le recevoir dans les minutes qui suivent. \nSi vous ne recevez pas cet e-mail\, contactez-nous à : vieetudiante.clous@crous-strasbourg.fr \nSi aucun formulaire ne s’affiche\, vérifiez le message du formulaire situé ci-dessus : \n\n« Date de mise en ligne » : le formulaire n’est pas encore disponible.\n« Complet » : toutes les places ont été réservées.\n\n\n[/vc_column_text][/vc_cardbox][/vc_column][/vc_row]
URL:https://www.crous-strasbourg.fr/evenement/soiree-jeux-avec-lafev-6/2026-04-01/
LOCATION:Clous de Mulhouse\, 11 rue des frères lumière\, Brunstatt\, 68350\, France
CATEGORIES:Jeux,Loisirs,Vie de campus
ATTACH;FMTTYPE=image/jpeg:https://www.crous-strasbourg.fr/wp-content/uploads/sites/29/2025/09/SITE_Soirees-jeux.jpg
END:VEVENT
BEGIN:VEVENT
DTSTART;TZID=Europe/Paris:20260401T193000
DTEND;TZID=Europe/Paris:20260401T223000
DTSTAMP:20260424T074409
CREATED:20260304T144310Z
LAST-MODIFIED:20260327T154435Z
UID:10004821-1775071800-1775082600@www.crous-strasbourg.fr
SUMMARY:Soirée Ciné / Student Movie : Super Mario Galaxy Le Film
DESCRIPTION:[vc_row][vc_column][vc_column_text css= » »] \n\n\nLe Clous de Mulhouse vous propose une soirée Cinéma au Florival avec la projection de Super Mario Galaxy Le Film. \nAu programme : une soirée film gratuite\, avec boissons et pop-corn offerts.\nUn tirage au sort vous permettra peut-être de gagner un CASQUE SONY 1000XM6 ainsi que de nombreux cadeaux ! \nL’inscription est valable pour vous et la personne de votre choix ! (Votre invité ne doit pas forcément être étudiant mais les personnes non-étudiantes ne pourront pas participer au tirage au sort\, pensez à ramenez vos cartes étudiantes afin d’accéder à l’animation). \nC’est gratuit et ouvert à tous les étudiants ! \n————————————————————— \n\n\nSynopsis :\nAu-delà du Royaume Champignon\, Mario\, Luigi et Yoshi voyagent à travers les galaxies aux côtés de Rosalina pour arrêter Bowser Jr.\, dont la tentative de sauver son père menace l’équilibre de l’univers. \nBande-annonce \n\n\n[/vc_column_text][/vc_column][/vc_row][vc_row][vc_column][/vc_column][/vc_row][vc_row][vc_column width= »1/2″][vc_empty_space][vc_cardbox color= »red »][vc_column_text css= » »] \nDécouvrez toutes les activités du Clous de Mulhouse dans l’agenda !\nAttention : en vous inscrivant aux animations\, vous donnez votre accord pour apparaître sur les photos et vidéos (diffusion sur nos réseaux sociaux). En cas de refus\, veuillez à nous le signaler[/vc_column_text][/vc_cardbox][/vc_column][vc_column width= »1/2″][vc_empty_space][vc_cardbox color= »red »][vc_column_text css= » »]Après avoir cliqué sur « Envoyer » : \n\nUne info-bulle s’affichera pour confirmer que votre inscription est prise en compte. Un e-mail automatique sera envoyé à l’adresse que vous avez renseignée. Vous devriez le recevoir dans les minutes qui suivent. \nSi vous ne recevez pas cet e-mail\, contactez-nous à : vieetudiante.clous@crous-strasbourg.fr \nSi aucun formulaire ne s’affiche\, vérifiez le message du formulaire situé ci-dessus : \n\n« Date de mise en ligne » : le formulaire n’est pas encore disponible.\n« Complet » : toutes les places ont été réservées.\n\n\n[/vc_column_text][/vc_cardbox][/vc_column][/vc_row]
URL:https://www.crous-strasbourg.fr/evenement/soiree-cine-student-movie-super-mario-galaxy-le-film/
LOCATION:Cinéma le Florival\, 1\, place Jean Finiels\, Guebwiller\, 68500
CATEGORIES:Cinéma,Vie de campus
ATTACH;FMTTYPE=image/jpeg:https://www.crous-strasbourg.fr/wp-content/uploads/sites/29/2026/03/SITE_Cine-68-Super-Mario-Galaxy-010426-1.jpg
END:VEVENT
END:VCALENDAR