BEGIN:VCALENDAR
VERSION:2.0
PRODID:-//Crous de Strasbourg - ECPv6.15.20//NONSGML v1.0//EN
CALSCALE:GREGORIAN
METHOD:PUBLISH
X-WR-CALNAME:Crous de Strasbourg
X-ORIGINAL-URL:https://www.crous-strasbourg.fr
X-WR-CALDESC:Évènements pour Crous de Strasbourg
REFRESH-INTERVAL;VALUE=DURATION:PT1H
X-Robots-Tag:noindex
X-PUBLISHED-TTL:PT1H
BEGIN:VTIMEZONE
TZID:Europe/Paris
BEGIN:DAYLIGHT
TZOFFSETFROM:+0100
TZOFFSETTO:+0200
TZNAME:CEST
DTSTART:20250330T010000
END:DAYLIGHT
BEGIN:STANDARD
TZOFFSETFROM:+0200
TZOFFSETTO:+0100
TZNAME:CET
DTSTART:20251026T010000
END:STANDARD
BEGIN:DAYLIGHT
TZOFFSETFROM:+0100
TZOFFSETTO:+0200
TZNAME:CEST
DTSTART:20260329T010000
END:DAYLIGHT
BEGIN:STANDARD
TZOFFSETFROM:+0200
TZOFFSETTO:+0100
TZNAME:CET
DTSTART:20261025T010000
END:STANDARD
BEGIN:DAYLIGHT
TZOFFSETFROM:+0100
TZOFFSETTO:+0200
TZNAME:CEST
DTSTART:20270328T010000
END:DAYLIGHT
BEGIN:STANDARD
TZOFFSETFROM:+0200
TZOFFSETTO:+0100
TZNAME:CET
DTSTART:20271031T010000
END:STANDARD
END:VTIMEZONE
BEGIN:VEVENT
DTSTART;TZID=Europe/Paris:20260409T183000
DTEND;TZID=Europe/Paris:20260409T200000
DTSTAMP:20260424T075327
CREATED:20251215T161828Z
LAST-MODIFIED:20251215T162024Z
UID:10004629-1775759400-1775764800@www.crous-strasbourg.fr
SUMMARY:Cours hebdo - circuit training et renforcement musculaire
DESCRIPTION:[vc_row][vc_column][vc_column_text css= » »]Travaillez votre forme physique avec des exercices adaptés sur machines : cardio\, musculation et renforcement au programme ! \nLe cours aura lieu tous les jeudis\, de 18h30 à 20h à la résidence de la Somme.  \nPensez à apporter de l’eau et une serviette. \nIntervenant : Elite Sport Performance \nNombre de places : 8. \n À noter : il n’y aura pas cours durant les vacances universitaires. Les cours s’arrêteront la semaine du 08 mai.[/vc_column_text][vc_empty_space height= »24px »]\n\n                \n                        \n							« * » indique les champs nécessaires \n                        \n                        Prénom & Nom / Name and Surname*\n                            \n                            \n                                                    \n                                                    Name\n                                                \n                            \n                            \n                                                    \n                                                    Surname\n                                                \n                            \n                        Téléphone / Phone number*E-mail*\n                            \n                        Établissement d'inscription / University or school*Université de StrasbourgUHAHEARINSAENGEESENSASTNSCNAMAutre (Other)Autre\, à préciser : / Other\, please specify :Filière d'étude / Your studies*Ville d'études / City where you study*Strasbourg (Eurometropole)MulhouseAutre (other)Autre\, à préciser / Other\, please specifyN° étudiant ou INE / Student or INE number*Êtes-vous logé dans une résidence Crous ? / Are you staying in a Crous residence hall ?*\n			\n					\n					Oui / Yes\n			\n			\n					\n					Non / No\n			Laquelle ? / Which one ?Paul AppellLes FlamboyantsGalliaLa SommeAlfred WeissLes CattleyasBruckhofLa RobertsauLes HoublonnièresLes AgapanthesLes AlternantsLes HéliotropesJ'atteste sur l’honneur que je ne possède aucune contre-indication médicale à la pratique sportive / I certify that I don't have any medical contraindication to practice sport*\n								\n								Oui / Yes\n							\n								\n								Non / No\n							Avez-vous déjà participé à ce cours au premier semestre ? / Have you already taken this course during the first semester ?*\n			\n					\n					Oui\n			\n			\n					\n					Non\n			Serez-vous disponible sur l'ensemble du semestre ? / Will you be available during the whole semester ?*\n								\n								Oui\, j'assisterai à toutes les séances / Yes\, I will come to all the courses\n							\n								\n								Je risque de manquer quelques séances / I might miss few courses\n							\n								\n								Non\, je ne suis disponible qu'une partie du semestre / No\, I'm not available for the whole semester\n							Vous avez eu connaissance de cette activité par : / How did you hear about this course ?*InstagramLe site du Crous / Crous' websiteEmailMinute Crous / Newsletter "Minute Crous"Ma Résidence / app "Ma Résidence"Bouche à oreille / Word of mouthAffiche\, flyer / Poster or flyerAutre (à préciser) / Other\, specifyAutre\, à préciser / Other\, please specify\n         Envoyer\n\n\n\n\n \n            \n            \n            \n            \n            \n            \n            \n            \n            \n            \n            \n            \n            \n        \n                        \n                        \n[/vc_column][/vc_row]
URL:https://www.crous-strasbourg.fr/evenement/cours-hebdo-circuit-training-et-renforcement-musculaire-3-2/2026-04-09/
LOCATION:Résidence de la Somme\, 13 rue de la Somme\, STRASBOURG\, 67000\, France
CATEGORIES:Cours hebdomadaire,Sport,Vie de campus
ATTACH;FMTTYPE=image/png:https://www.crous-strasbourg.fr/wp-content/uploads/sites/29/2023/09/Visuels-pour-relance-MULTI-2.png
END:VEVENT
BEGIN:VEVENT
DTSTART;TZID=Europe/Paris:20260409T184500
DTEND;TZID=Europe/Paris:20260409T194500
DTSTAMP:20260424T075327
CREATED:20251215T161226Z
LAST-MODIFIED:20251215T161617Z
UID:10004617-1775760300-1775763900@www.crous-strasbourg.fr
SUMMARY:Cours hebdo - zumba
DESCRIPTION:[vc_row][vc_column][vc_column_text css= » »]Bougez sur le rythme de la musique avec la zumba ! \nLe cours aura lieu tous les jeudis de 18h45 à 19h45\, dans la salle des droits de l’Homme de la Cité U’ Robertsau. \nIntervenant : Sanaga Danse. \n À noter : il n’y aura pas cours durant les vacances universitaires et les jours fériés. Les cours s’arrêteront la semaine du 08 mai.[/vc_column_text][vc_empty_space height= »24px »][/vc_column][/vc_row][vc_row][vc_column]\n                \n                        \n							« * » indique les champs nécessaires \n                        \n                        Prénom & Nom / Name and Surname*\n                            \n                            \n                                                    \n                                                    Name\n                                                \n                            \n                            \n                                                    \n                                                    Surname\n                                                \n                            \n                        Téléphone / Phone number*E-mail*\n                            \n                        Établissement d'inscription / University or school*Université de StrasbourgUHAHEARINSAENGEESENSASTNSCNAMAutre (Other)Autre\, à préciser : / Other\, please specify :Filière d'étude / Your studies*Ville d'études / City where you study*Strasbourg (Eurometropole)MulhouseAutre (other)Autre\, à préciser / Other\, please specifyN° étudiant ou INE / Student or INE number*Êtes-vous logé dans une résidence Crous ? / Are you staying in a Crous residence hall ?*\n			\n					\n					Oui / Yes\n			\n			\n					\n					Non / No\n			Laquelle ? / Which one ?Paul AppellLes FlamboyantsGalliaLa SommeAlfred WeissLes CattleyasBruckhofLa RobertsauLes HoublonnièresLes AgapanthesLes AlternantsLes HéliotropesJ'atteste sur l’honneur que je ne possède aucune contre-indication médicale à la pratique sportive / I certify that I don't have any medical contraindication to practice sport*\n								\n								Oui / Yes\n							\n								\n								Non / No\n							Avez-vous déjà participé à ce cours au premier semestre ? / Have you already taken this course during the first semester ?*\n			\n					\n					Oui\n			\n			\n					\n					Non\n			Serez-vous disponible sur l'ensemble du semestre ? / Will you be available during the whole semester ?*\n								\n								Oui\, j'assisterai à toutes les séances / Yes\, I will come to all the courses\n							\n								\n								Je risque de manquer quelques séances / I might miss few courses\n							\n								\n								Non\, je ne suis disponible qu'une partie du semestre / No\, I'm not available for the whole semester\n							Vous avez eu connaissance de cette activité par : / How did you hear about this course ?*InstagramLe site du Crous / Crous' websiteEmailMinute Crous / Newsletter "Minute Crous"Ma Résidence / app "Ma Résidence"Bouche à oreille / Word of mouthAffiche\, flyer / Poster or flyerAutre (à préciser) / Other\, specifyAutre\, à préciser / Other\, please specify\n         Envoyer\n\n\n\n\n \n            \n            \n            \n            \n            \n            \n            \n            \n            \n            \n            \n            \n            \n        \n                        \n                        \n[/vc_column][/vc_row]
URL:https://www.crous-strasbourg.fr/evenement/cours-hebdo-zumba-2/2026-04-09/
LOCATION:Cité U’ Robertsau\, 14 route de la Wantzenau\, Strasbourg\, 67085\, France
CATEGORIES:Cours hebdomadaire,Sport,Vie de campus
ATTACH;FMTTYPE=image/png:https://www.crous-strasbourg.fr/wp-content/uploads/sites/29/2023/09/yoga-2.png
END:VEVENT
BEGIN:VEVENT
DTSTART;TZID=Europe/Paris:20260409T193000
DTEND;TZID=Europe/Paris:20260409T223000
DTSTAMP:20260424T075327
CREATED:20251119T150119Z
LAST-MODIFIED:20251119T150119Z
UID:10004232-1775763000-1775773800@www.crous-strasbourg.fr
SUMMARY:Soirée ciné débat : "The Whale"
DESCRIPTION:[vc_row][vc_column][vc_column_text css= » »]Projection du film “The Whale » de Darren Aronofsky \nSynopsis : Réalisé par Darren Aronofsky\, The Whale est une adaptation cinématographique de la pièce de théâtre éponyme de Samuel D. Hunter. Ce drame poignant et intimiste explore les thèmes de la culpabilité\, de la rédemption et de l’auto-destruction. \nSoirée en partenariat avec le SSE[/vc_column_text][vc_button icon= »arrow-right » button_data= »url:https%3A%2F%2Fmy.weezevent.com%2Fcine-debat-the-whale-de-darren-aronofsky|title:R%C3%A9server%20sa%20place|target:_blank »][/vc_column][/vc_row]
URL:https://www.crous-strasbourg.fr/evenement/soiree-cine-debat-thewhale/
LOCATION:Cinéma Vox\, 17 rue des Francs-Bourgeois\, Strasbourg\, 67000\, France
CATEGORIES:Cinéma,Conférence / Débat,Santé,Vie de campus
ATTACH;FMTTYPE=image/jpeg:https://www.crous-strasbourg.fr/wp-content/uploads/sites/29/2025/11/The-Whale-copertina.jpeg
END:VEVENT
END:VCALENDAR