BEGIN:VCALENDAR
VERSION:2.0
PRODID:-//Crous de Strasbourg - ECPv6.15.20//NONSGML v1.0//EN
CALSCALE:GREGORIAN
METHOD:PUBLISH
X-WR-CALNAME:Crous de Strasbourg
X-ORIGINAL-URL:https://www.crous-strasbourg.fr
X-WR-CALDESC:Évènements pour Crous de Strasbourg
REFRESH-INTERVAL;VALUE=DURATION:PT1H
X-Robots-Tag:noindex
X-PUBLISHED-TTL:PT1H
BEGIN:VTIMEZONE
TZID:Europe/Paris
BEGIN:DAYLIGHT
TZOFFSETFROM:+0100
TZOFFSETTO:+0200
TZNAME:CEST
DTSTART:20250330T010000
END:DAYLIGHT
BEGIN:STANDARD
TZOFFSETFROM:+0200
TZOFFSETTO:+0100
TZNAME:CET
DTSTART:20251026T010000
END:STANDARD
BEGIN:DAYLIGHT
TZOFFSETFROM:+0100
TZOFFSETTO:+0200
TZNAME:CEST
DTSTART:20260329T010000
END:DAYLIGHT
BEGIN:STANDARD
TZOFFSETFROM:+0200
TZOFFSETTO:+0100
TZNAME:CET
DTSTART:20261025T010000
END:STANDARD
BEGIN:DAYLIGHT
TZOFFSETFROM:+0100
TZOFFSETTO:+0200
TZNAME:CEST
DTSTART:20270328T010000
END:DAYLIGHT
BEGIN:STANDARD
TZOFFSETFROM:+0200
TZOFFSETTO:+0100
TZNAME:CET
DTSTART:20271031T010000
END:STANDARD
END:VTIMEZONE
BEGIN:VEVENT
DTSTART;TZID=Europe/Paris:20260411T101500
DTEND;TZID=Europe/Paris:20260411T123000
DTSTAMP:20260424T074515
CREATED:20251215T175119Z
LAST-MODIFIED:20260311T130932Z
UID:10004713-1775902500-1775910600@www.crous-strasbourg.fr
SUMMARY:Brunch diététique mensuel
DESCRIPTION:[vc_row][vc_column][vc_column_text css= » »] \nLe Clous de Mulhouse vous propose un Brunch diététique en compagnie de votre coach sportif ! \nApprenez à concocter de bons petits plats au 46\, votre espace de vie sociale : c’est l’occasion de rencontrer de nouvelles personnes et de manger sainement. \n[/vc_column_text][/vc_column][/vc_row][vc_row][vc_column][vc_empty_space][vc_row_inner][vc_column_inner css= ».vc_custom_1765893012348{background-color: #F3F3F3 !important;border-radius: 10px !important;} »][/vc_column_inner][/vc_row_inner][/vc_column][/vc_row][vc_row][vc_column width= »1/2″][vc_empty_space][vc_cardbox color= »red »][vc_column_text css= » »] \nDécouvrez toutes les activités du Clous de Mulhouse dans l’agenda !\nAttention : en vous inscrivant aux animations\, vous donnez votre accord pour apparaître sur les photos et vidéos (diffusion sur nos réseaux sociaux). En cas de refus\, veuillez à nous le signaler[/vc_column_text][/vc_cardbox][/vc_column][vc_column width= »1/2″][vc_empty_space][vc_cardbox color= »red »][vc_column_text css= » »]Après avoir cliqué sur « Envoyer » : \n\nUne info-bulle s’affichera pour confirmer que votre inscription est prise en compte. Un e-mail automatique sera envoyé à l’adresse que vous avez renseignée. Vous devriez le recevoir dans les minutes qui suivent. \nSi vous ne recevez pas cet e-mail\, contactez-nous à : vieetudiante.clous@crous-strasbourg.fr \nSi aucun formulaire ne s’affiche\, vérifiez le message du formulaire situé ci-dessus : \n\n« Date de mise en ligne » : le formulaire n’est pas encore disponible.\n« Complet » : toutes les places ont été réservées.\n\n\n[/vc_column_text][/vc_cardbox][/vc_column][/vc_row]
URL:https://www.crous-strasbourg.fr/evenement/brunch-dietetique-mensuel-8/2026-04-11/
LOCATION:Le 46\, 46 boulevard Charles Stoessel\, Mulhouse
CATEGORIES:Cuisine,Santé,Vie de campus
ATTACH;FMTTYPE=image/jpeg:https://www.crous-strasbourg.fr/wp-content/uploads/sites/29/2024/09/Brunch-diet-site.jpg
END:VEVENT
END:VCALENDAR